BEGIN:VCALENDAR
VERSION:2.0
PRODID:-//Maynard Fire Department - ECPv6.0.12//NONSGML v1.0//EN
CALSCALE:GREGORIAN
METHOD:PUBLISH
X-WR-CALNAME:Maynard Fire Department
X-ORIGINAL-URL:https://maynardfire.com
X-WR-CALDESC:Events for Maynard Fire Department
REFRESH-INTERVAL;VALUE=DURATION:PT1H
X-Robots-Tag:noindex
X-PUBLISHED-TTL:PT1H
BEGIN:VTIMEZONE
TZID:America/New_York
BEGIN:DAYLIGHT
TZOFFSETFROM:-0500
TZOFFSETTO:-0400
TZNAME:EDT
DTSTART:20250309T070000
END:DAYLIGHT
BEGIN:STANDARD
TZOFFSETFROM:-0400
TZOFFSETTO:-0500
TZNAME:EST
DTSTART:20251102T060000
END:STANDARD
END:VTIMEZONE
BEGIN:VEVENT
DTSTART;TZID=America/New_York:20250727T100000
DTEND;TZID=America/New_York:20250727T170000
DTSTAMP:20260419T155438
CREATED:20250602T010512Z
LAST-MODIFIED:20250602T010512Z
UID:10000018-1753610400-1753635600@maynardfire.com
SUMMARY:Believe 271 Foundation/Robert LeBuis Memorial Golf Tournament
DESCRIPTION:
URL:https://maynardfire.com/event/believe-271-foundation-robert-lebuis-memorial-golf-tournament/
LOCATION:Twin Ponds Golf and Country Club
END:VEVENT
END:VCALENDAR